BEGIN:VCALENDAR
VERSION:2.0
PRODID:-//wp-events-plugin.com//6.6.4.4//EN
BEGIN:VEVENT
UID:684@murx.org
DTSTART:20250916T170000Z
DTEND:20250916T190000Z
DTSTAMP:20250224T200034Z
URL:https://www.murx.org/events/frauen-sprachcafe-2025-09-16/
SUMMARY:Frauen*-Sprachcafé
DESCRIPTION:
END:VEVENT
END:VCALENDAR